BEGIN:VCALENDAR
VERSION:2.0
PRODID:-//www.butterflybridgecac.org//NONSGML kigkonsult.se iCalcreator 2.3
 0.10//
CALSCALE:GREGORIAN
METHOD:PUBLISH
UID:68ac9ac6-89b1-4bf2-929c-99bf62a97bdb
X-WR-CALDESC:Joeys Car Wash is teaming up with Butterfly Bridge Children's 
 Advocacy Center in an effort to promote Child Abuse Awareness Month and he
 lp give back to help the child abuse victims of Autauga County. Proceeds w
 ill back to BBCAC. \n\n\nThe funds that are raised will help the child abu
 se victims that we serve receive the necessary services that will help the
 m go on to live a life full of possibilities!\nFor more information about 
 Butterfly Bridge Children's Advocacy Center visit www.butterflybridgecac.o
 rg.
X-WR-RELCALID:db6af2395faee0fead39a0b509723353
X-WR-TIMEZONE:America/Chicago
BEGIN:VTIMEZONE
TZID:America/Chicago
BEGIN:STANDARD
TZNAME:CST
DTSTART:20231105T020000
TZOFFSETFROM:-0500
TZOFFSETTO:-0600
RDATE:20241103T020000
END:STANDARD
BEGIN:DAYLIGHT
TZNAME:CDT
DTSTART:20240310T020000
TZOFFSETFROM:-0600
TZOFFSETTO:-0500
RDATE:20250309T020000
END:DAYLIGHT
END:VTIMEZONE
BEGIN:VEVENT
UID:ce75954a-664a-4a4d-b684-c531c4ee887c
DTSTAMP:20260421T215103Z
DESCRIPTION:Joeys Car Wash is teaming up with Butterfly Bridge Children's A
 dvocacy Center in an effort to promote Child Abuse Awareness Month and hel
 p give back to help the child abuse victims of Autauga County. Proceeds wi
 ll back to BBCAC. \n\n\nThe funds that are raised will help the child abus
 e victims that we serve receive the necessary services that will help them
  go on to live a life full of possibilities!\nFor more information about B
 utterfly Bridge Children's Advocacy Center visit www.butterflybridgecac.or
 g.
DTSTART;TZID=America/Chicago:20240428T110000
DTEND;TZID=America/Chicago:20240428T150000
LOCATION:891 Boardroom Drive\, Prattville\, AL 36066 US
SUMMARY:Joey's Car Wash Giveback
END:VEVENT
END:VCALENDAR
