BEGIN:VCALENDAR
VERSION:2.0
PRODID:-//www.butterflybridgecac.org//NONSGML kigkonsult.se iCalcreator 2.3
 0.10//
CALSCALE:GREGORIAN
METHOD:PUBLISH
UID:c97b7801-0902-4ac2-a17f-6ff969195bf4
X-WR-CALDESC:Launch Prattville is teaming up with Butterfly Bridge Children
 's Advocacy Center in an effort to promote Child Abuse Awareness Month and
  help give back to help the child abuse victims of Autauga County. A % of 
 sales will be given back to BBCAC. \n\n\nThe funds that are raised will he
 lp the child abuse victims that we serve receive the necessary services th
 at will help them go on to live a life full of possibilities!\nFor more in
 formation about Butterfly Bridge Children's Advocacy Center visit www.butt
 erflybridgecac.org.
X-WR-RELCALID:fa26d35187c064a386533002d106cb02
X-WR-TIMEZONE:America/Chicago
BEGIN:VTIMEZONE
TZID:America/Chicago
BEGIN:STANDARD
TZNAME:CST
DTSTART:20231105T020000
TZOFFSETFROM:-0500
TZOFFSETTO:-0600
RDATE:20241103T020000
END:STANDARD
BEGIN:DAYLIGHT
TZNAME:CDT
DTSTART:20240310T020000
TZOFFSETFROM:-0600
TZOFFSETTO:-0500
RDATE:20250309T020000
END:DAYLIGHT
END:VTIMEZONE
BEGIN:VEVENT
UID:cfd27851-291a-4b94-9ea0-4848eea488cb
DTSTAMP:20260421T220334Z
DESCRIPTION:Launch Prattville is teaming up with Butterfly Bridge Children'
 s Advocacy Center in an effort to promote Child Abuse Awareness Month and 
 help give back to help the child abuse victims of Autauga County. A % of s
 ales will be given back to BBCAC. \n\n\nThe funds that are raised will hel
 p the child abuse victims that we serve receive the necessary services tha
 t will help them go on to live a life full of possibilities!\nFor more inf
 ormation about Butterfly Bridge Children's Advocacy Center visit www.butte
 rflybridgecac.org.
DTSTART;TZID=America/Chicago:20240427T110000
DTEND;TZID=America/Chicago:20240427T160000
LOCATION:891 Boardroom Drive\, Prattville\, AL 36066 US
SUMMARY:Launch Prattville Giveback
END:VEVENT
END:VCALENDAR
