BEGIN:VCALENDAR
VERSION:2.0
PRODID:-//www.butterflybridgecac.org//NONSGML kigkonsult.se iCalcreator 2.3
 0.10//
CALSCALE:GREGORIAN
METHOD:PUBLISH
UID:a23701d6-8679-44a4-87af-9ec0da15f1a0
X-WR-CALDESC:Pies by Mike is teaming up with Butterfly Bridge Children's Ad
 vocacy Center in an effort to promote Child Abuse Awareness Month and help
  give back to help the child abuse victims of Chilton County.\n10% of card
  sales and 20% of cash sales will go back to Butterfly Bridge Children's A
 dvocacy of Chilton County. \n\nThe funds that are raised will help the chi
 ld abuse victims that we serve receive the necessary services that will he
 lp them go on to live a life full of possibilities!\nFor more information 
 about Butterfly Bridge Children's Advocacy Center go to www.butterflybridg
 ecac.org or call our office at (205) 755-4205.
X-WR-RELCALID:7fad466c2be326d0bd1a4e61d197b1b1
X-WR-TIMEZONE:America/Chicago
BEGIN:VTIMEZONE
TZID:America/Chicago
BEGIN:STANDARD
TZNAME:CST
DTSTART:20231105T020000
TZOFFSETFROM:-0500
TZOFFSETTO:-0600
RDATE:20241103T020000
END:STANDARD
BEGIN:DAYLIGHT
TZNAME:CDT
DTSTART:20240310T020000
TZOFFSETFROM:-0600
TZOFFSETTO:-0500
RDATE:20250309T020000
END:DAYLIGHT
END:VTIMEZONE
BEGIN:VEVENT
UID:f176cced-2669-4ce6-b71b-22da6936bde3
DTSTAMP:20260421T215727Z
DESCRIPTION:Pies by Mike is teaming up with Butterfly Bridge Children's Adv
 ocacy Center in an effort to promote Child Abuse Awareness Month and help 
 give back to help the child abuse victims of Chilton County.\n10% of card 
 sales and 20% of cash sales will go back to Butterfly Bridge Children's Ad
 vocacy of Chilton County. \n\nThe funds that are raised will help the chil
 d abuse victims that we serve receive the necessary services that will hel
 p them go on to live a life full of possibilities!\nFor more information a
 bout Butterfly Bridge Children's Advocacy Center go to www.butterflybridge
 cac.org or call our office at (205) 755-4205.
DTSTART;TZID=America/Chicago:20240425T070000
DTEND;TZID=America/Chicago:20240425T130000
LOCATION:1015 Lay Dam Road\, Clanton\, AL 35045 US
SUMMARY:Pies by Mike Giveback
END:VEVENT
END:VCALENDAR
