BEGIN:VCALENDAR
VERSION:2.0
PRODID:-//www.butterflybridgecac.org//NONSGML kigkonsult.se iCalcreator 2.3
 0.10//
CALSCALE:GREGORIAN
METHOD:PUBLISH
UID:14f33e03-5d1b-4d5f-8ab6-9d147dab9a29
X-WR-CALDESC:The Frozen Goat is teaming up with Butterfly Bridge Children's
  Advocacy Center in an effort to promote Child Abuse Awareness Month and h
 elp give back to help the child abuse victims of Chilton County.\nA % of s
 ales will go back to Butterfly Bridge Children's Advocacy of Chilton Count
 y. \n\nThe funds that are raised will help the child abuse victims that we
  serve receive the necessary services that will help them go on to live a 
 life full of possibilities!\nFor more information about Butterfly Bridge C
 hildren's Advocacy Center go to www.butterflybridgecac.org or call our off
 ice at (205) 755-4205.
X-WR-RELCALID:70b9a0297bf1771abe9c7e37663195c0
X-WR-TIMEZONE:America/Chicago
BEGIN:VTIMEZONE
TZID:America/Chicago
BEGIN:STANDARD
TZNAME:CST
DTSTART:20231105T020000
TZOFFSETFROM:-0500
TZOFFSETTO:-0600
RDATE:20241103T020000
END:STANDARD
BEGIN:DAYLIGHT
TZNAME:CDT
DTSTART:20240310T020000
TZOFFSETFROM:-0600
TZOFFSETTO:-0500
RDATE:20250309T020000
END:DAYLIGHT
END:VTIMEZONE
BEGIN:VEVENT
UID:84ec4eb7-5850-45b5-b7d4-fbdfde35817a
DTSTAMP:20260421T220041Z
DESCRIPTION:The Frozen Goat is teaming up with Butterfly Bridge Children's 
 Advocacy Center in an effort to promote Child Abuse Awareness Month and he
 lp give back to help the child abuse victims of Chilton County.\nA % of sa
 les will go back to Butterfly Bridge Children's Advocacy of Chilton County
 . \n\nThe funds that are raised will help the child abuse victims that we 
 serve receive the necessary services that will help them go on to live a l
 ife full of possibilities!\nFor more information about Butterfly Bridge Ch
 ildren's Advocacy Center go to www.butterflybridgecac.org or call our offi
 ce at (205) 755-4205.
DTSTART;TZID=America/Chicago:20240419T110000
DTEND;TZID=America/Chicago:20240419T190000
LOCATION:211 7th Street North\, Clanton\, AL 35045 US
SUMMARY:The Frozen Goat Giveback
END:VEVENT
END:VCALENDAR
