BEGIN:VCALENDAR
VERSION:2.0
PRODID:-//www.butterflybridgecac.org//NONSGML kigkonsult.se iCalcreator 2.3
 0.10//
CALSCALE:GREGORIAN
METHOD:PUBLISH
UID:a0fbfdf5-77ca-485c-aaf4-788cdd445209
X-WR-CALDESC:Coaches Corner is teaming up with Butterfly Bridge Children's 
 Advocacy Center in an effort to promote Child Abuse Awareness Month and he
 lp give back to help the child abuse victims of Elmore County.\n\n\nThe fu
 nds that are raised will help the child abuse victims that we serve receiv
 e the necessary services that will help them go on to live a life full of 
 possibilities!\nFor more information about Butterfly Bridge Children's Adv
 ocacy Center visit www.butterflybridgecac.org.
X-WR-RELCALID:e28814e65ee5a2fbe87d95b7cdb7ae0c
X-WR-TIMEZONE:America/Chicago
BEGIN:VTIMEZONE
TZID:America/Chicago
BEGIN:STANDARD
TZNAME:CST
DTSTART:20231105T020000
TZOFFSETFROM:-0500
TZOFFSETTO:-0600
RDATE:20241103T020000
END:STANDARD
BEGIN:DAYLIGHT
TZNAME:CDT
DTSTART:20240310T020000
TZOFFSETFROM:-0600
TZOFFSETTO:-0500
RDATE:20250309T020000
END:DAYLIGHT
END:VTIMEZONE
BEGIN:VEVENT
UID:9c9d941e-c0b6-4bc1-87df-b22564aa3127
DTSTAMP:20260421T215727Z
DESCRIPTION:Coaches Corner is teaming up with Butterfly Bridge Children's A
 dvocacy Center in an effort to promote Child Abuse Awareness Month and hel
 p give back to help the child abuse victims of Elmore County.\n\n\nThe fun
 ds that are raised will help the child abuse victims that we serve receive
  the necessary services that will help them go on to live a life full of p
 ossibilities!\nFor more information about Butterfly Bridge Children's Advo
 cacy Center visit www.butterflybridgecac.org.
DTSTART;TZID=America/Chicago:20240417T110000
DTEND;TZID=America/Chicago:20240417T210000
LOCATION:309 7th St N\, Clanton\, AL 35045 US
SUMMARY:Coaches Corner Bar & Grill Giveback
END:VEVENT
END:VCALENDAR
