BEGIN:VCALENDAR
VERSION:2.0
PRODID:-//www.butterflybridgecac.org//NONSGML kigkonsult.se iCalcreator 2.3
 0.10//
CALSCALE:GREGORIAN
METHOD:PUBLISH
UID:43bc52bd-95d3-49b1-a934-bf47e1fa94c3
X-WR-CALDESC:The Fizz Co. is teaming up with Butterfly Bridge Children's Ad
 vocacy Center in an effort to promote Child Abuse Awareness Month and help
  give back to help the child abuse victims of Elmore County.\n\n\nThe fund
 s that are raised will help the child abuse victims that we serve receive 
 the necessary services that will help them go on to live a life full of po
 ssibilities!\nFor more information about Butterfly Bridge Children's Advoc
 acy Center visit www.butterflybridgecac.org.
X-WR-RELCALID:9fcd81660642ec735225c37704403461
X-WR-TIMEZONE:America/Chicago
BEGIN:VTIMEZONE
TZID:America/Chicago
BEGIN:STANDARD
TZNAME:CST
DTSTART:20231105T020000
TZOFFSETFROM:-0500
TZOFFSETTO:-0600
RDATE:20241103T020000
END:STANDARD
BEGIN:DAYLIGHT
TZNAME:CDT
DTSTART:20240310T020000
TZOFFSETFROM:-0600
TZOFFSETTO:-0500
RDATE:20250309T020000
END:DAYLIGHT
END:VTIMEZONE
BEGIN:VEVENT
UID:679ab516-ea53-42f1-a333-d1ce29b1ce37
DTSTAMP:20260420T101303Z
DESCRIPTION:The Fizz Co. is teaming up with Butterfly Bridge Children's Adv
 ocacy Center in an effort to promote Child Abuse Awareness Month and help 
 give back to help the child abuse victims of Elmore County.\n\n\nThe funds
  that are raised will help the child abuse victims that we serve receive t
 he necessary services that will help them go on to live a life full of pos
 sibilities!\nFor more information about Butterfly Bridge Children's Advoca
 cy Center visit www.butterflybridgecac.org.
DTSTART;TZID=America/Chicago:20240416T070000
DTEND;TZID=America/Chicago:20240416T180000
LOCATION:Millbrook & Wetumpka Locations
SUMMARY:The Fizz Co. Giveback
END:VEVENT
END:VCALENDAR
