BEGIN:VCALENDAR
VERSION:2.0
PRODID:-//www.butterflybridgecac.org//NONSGML kigkonsult.se iCalcreator 2.3
 0.10//
CALSCALE:GREGORIAN
METHOD:PUBLISH
UID:9e2771a5-1592-4c18-ac43-eec5b5ff86cf
X-WR-CALDESC:Restoration Coffee House is teaming up with Butterfly Bridge C
 hildren's Advocacy Center in an effort to promote Child Abuse Awareness Mo
 nth and help give back to help the child abuse victims of Elmore County.\n
 \n\nThe funds that are raised will help the child abuse victims that we se
 rve receive the necessary services that will help them go on to live a lif
 e full of possibilities!\nFor more information about Butterfly Bridge Chil
 dren's Advocacy Center visit www.butterflybridgecac.org.
X-WR-RELCALID:8209f9b65a197f7ed3a8b08fb3a9d595
X-WR-TIMEZONE:America/Chicago
BEGIN:VTIMEZONE
TZID:America/Chicago
BEGIN:STANDARD
TZNAME:CST
DTSTART:20231105T020000
TZOFFSETFROM:-0500
TZOFFSETTO:-0600
RDATE:20241103T020000
END:STANDARD
BEGIN:DAYLIGHT
TZNAME:CDT
DTSTART:20240310T020000
TZOFFSETFROM:-0600
TZOFFSETTO:-0500
RDATE:20250309T020000
END:DAYLIGHT
END:VTIMEZONE
BEGIN:VEVENT
UID:29243ac0-f892-4933-b7f3-14e8220b5f7c
DTSTAMP:20260421T215907Z
DESCRIPTION:Restoration Coffee House is teaming up with Butterfly Bridge Ch
 ildren's Advocacy Center in an effort to promote Child Abuse Awareness Mon
 th and help give back to help the child abuse victims of Elmore County.\n
 \n\nThe funds that are raised will help the child abuse victims that we se
 rve receive the necessary services that will help them go on to live a lif
 e full of possibilities!\nFor more information about Butterfly Bridge Chil
 dren's Advocacy Center visit www.butterflybridgecac.org.
DTSTART;TZID=America/Chicago:20240412T070000
DTEND;TZID=America/Chicago:20240412T160000
LOCATION:309 7th St N\, Clanton\, AL 35045 US
SUMMARY:Restoration Coffee House Giveback
END:VEVENT
END:VCALENDAR
