BEGIN:VCALENDAR
VERSION:2.0
PRODID:-//www.butterflybridgecac.org//NONSGML kigkonsult.se iCalcreator 2.3
 0.10//
CALSCALE:GREGORIAN
METHOD:PUBLISH
UID:55f0678c-802f-4afe-b641-43ba5f8c54d7
X-WR-CALDESC:The Southern Refinery is teaming up with Butterfly Bridge Chil
 dren's Advocacy Center in an effort to promote Child Abuse Awareness Month
  and help give back to help the child abuse victims of Autauga County. A %
  of sales will be given back to BBCAC. \n\n\nThe funds that are raised wil
 l help the child abuse victims that we serve receive the necessary service
 s that will help them go on to live a life full of possibilities!\nFor mor
 e information about Butterfly Bridge Children's Advocacy Center visit www.
 butterflybridgecac.org.
X-WR-RELCALID:668c0fa04514a4bab474a6872309a0be
X-WR-TIMEZONE:America/Chicago
BEGIN:VTIMEZONE
TZID:America/Chicago
BEGIN:STANDARD
TZNAME:CST
DTSTART:20231105T020000
TZOFFSETFROM:-0500
TZOFFSETTO:-0600
RDATE:20241103T020000
END:STANDARD
BEGIN:DAYLIGHT
TZNAME:CDT
DTSTART:20240310T020000
TZOFFSETFROM:-0600
TZOFFSETTO:-0500
RDATE:20250309T020000
END:DAYLIGHT
END:VTIMEZONE
BEGIN:VEVENT
UID:51da75b7-f358-4add-92eb-c39a15116d07
DTSTAMP:20260421T220247Z
DESCRIPTION:The Southern Refinery is teaming up with Butterfly Bridge Child
 ren's Advocacy Center in an effort to promote Child Abuse Awareness Month 
 and help give back to help the child abuse victims of Autauga County. A % 
 of sales will be given back to BBCAC. \n\n\nThe funds that are raised will
  help the child abuse victims that we serve receive the necessary services
  that will help them go on to live a life full of possibilities!\nFor more
  information about Butterfly Bridge Children's Advocacy Center visit www.b
 utterflybridgecac.org.
DTSTART;TZID=America/Chicago:20240411T100000
DTEND;TZID=America/Chicago:20240411T180000
LOCATION:1336 South Memorial Drive\, Prattville\, AL 35045 US
SUMMARY:The Southern Refinery Giveback
END:VEVENT
END:VCALENDAR
