BEGIN:VCALENDAR
VERSION:2.0
PRODID:-//www.butterflybridgecac.org//NONSGML kigkonsult.se iCalcreator 2.3
 0.10//
CALSCALE:GREGORIAN
METHOD:PUBLISH
UID:49bb3858-ed00-4923-a7b6-451ccd023fae
X-WR-CALDESC:Neighborhood Grill is teaming up with Butterfly Bridge Childre
 n's Advocacy Center in an effort to promote Child Abuse Awareness Month an
 d help give back to help the child abuse victims of Chilton County.\n10% o
 f sales will go back to Butterfly Bridge Children's Advocacy of Chilton Co
 unty on April 8th & 22nd. \n\nThe funds that are raised will help the chil
 d abuse victims that we serve receive the necessary services that will hel
 p them go on to live a life full of possibilities!\nFor more information a
 bout Butterfly Bridge Children's Advocacy Center go to www.butterflybridge
 cac.org or call our office at (205) 755-4205.
X-WR-RELCALID:6d8c49849880c64198a7c17d148ad58d
X-WR-TIMEZONE:America/Chicago
BEGIN:VTIMEZONE
TZID:America/Chicago
BEGIN:STANDARD
TZNAME:CST
DTSTART:20231105T020000
TZOFFSETFROM:-0500
TZOFFSETTO:-0600
RDATE:20241103T020000
END:STANDARD
BEGIN:DAYLIGHT
TZNAME:CDT
DTSTART:20240310T020000
TZOFFSETFROM:-0600
TZOFFSETTO:-0500
RDATE:20250309T020000
END:DAYLIGHT
END:VTIMEZONE
BEGIN:VEVENT
UID:6f238a60-8a23-4aaa-b4bf-4e547951eb94
DTSTAMP:20260421T215734Z
DESCRIPTION:Neighborhood Grill is teaming up with Butterfly Bridge Children
 's Advocacy Center in an effort to promote Child Abuse Awareness Month and
  help give back to help the child abuse victims of Chilton County.\n10% of
  sales will go back to Butterfly Bridge Children's Advocacy of Chilton Cou
 nty on April 8th & 22nd. \n\nThe funds that are raised will help the child
  abuse victims that we serve receive the necessary services that will help
  them go on to live a life full of possibilities!\nFor more information ab
 out Butterfly Bridge Children's Advocacy Center go to www.butterflybridgec
 ac.org or call our office at (205) 755-4205.
DTSTART;TZID=America/Chicago:20240408T110000
DTEND;TZID=America/Chicago:20240408T210000
LOCATION:309 7th St N\, Clanton\, AL 35045 US
SUMMARY:Neighborhood Grill Giveback
END:VEVENT
END:VCALENDAR
