BEGIN:VCALENDAR
VERSION:2.0
PRODID:-//www.butterflybridgecac.org//NONSGML kigkonsult.se iCalcreator 2.3
 0.10//
CALSCALE:GREGORIAN
METHOD:PUBLISH
UID:c3374652-75ac-4fc1-9a6d-aa94676614e2
X-WR-CALDESC:Cedar & Bloom & Mulberry Hill Boutique  is teaming up with But
 terfly Bridge Children's Advocacy Center in an effort to promote Child Abu
 se Awareness Month and help give back to help the child abuse victims of o
 ur community.\n\n\nThe funds that are raised will help the child abuse vic
 tims that we serve receive the necessary services that will help them go o
 n to live a life full of possibilities!\nFor more information about Butter
 fly Bridge Children's Advocacy Center visit www.butterflybridgecac.org.
X-WR-RELCALID:f1b652152abffdbdc31512b079c673d2
X-WR-TIMEZONE:America/Chicago
BEGIN:VTIMEZONE
TZID:America/Chicago
BEGIN:STANDARD
TZNAME:CST
DTSTART:20231105T020000
TZOFFSETFROM:-0500
TZOFFSETTO:-0600
RDATE:20241103T020000
END:STANDARD
BEGIN:DAYLIGHT
TZNAME:CDT
DTSTART:20240310T020000
TZOFFSETFROM:-0600
TZOFFSETTO:-0500
RDATE:20250309T020000
END:DAYLIGHT
END:VTIMEZONE
BEGIN:VEVENT
UID:bcadb67b-8464-44f2-b510-8ecd3904a1f2
DTSTAMP:20260421T220042Z
DESCRIPTION:Cedar & Bloom & Mulberry Hill Boutique  is teaming up with Butt
 erfly Bridge Children's Advocacy Center in an effort to promote Child Abus
 e Awareness Month and help give back to help the child abuse victims of ou
 r community.\n\n\nThe funds that are raised will help the child abuse vict
 ims that we serve receive the necessary services that will help them go on
  to live a life full of possibilities!\nFor more information about Butterf
 ly Bridge Children's Advocacy Center visit www.butterflybridgecac.org.
DTSTART;TZID=America/Chicago:20240405T103000
DTEND;TZID=America/Chicago:20240405T173000
LOCATION:Downtown Clanton
SUMMARY:Mulberry Hill & Cedar & Bloom Boutique
END:VEVENT
END:VCALENDAR
