BEGIN:VCALENDAR
VERSION:2.0
PRODID:-//www.butterflybridgecac.org//NONSGML kigkonsult.se iCalcreator 2.3
 0.10//
CALSCALE:GREGORIAN
METHOD:PUBLISH
UID:9e05eede-e6c0-4a50-ac19-1efa4e801ae2
X-WR-CALDESC:oin us at Elmore County Commission Building as we kick off Nat
 ional Child Abuse Prevention Month. The morning will include a proclamatio
 n reading by Judge Pinkston and planting pinwheels in honor of a child in 
 Elmore County. Please attend and help us bring child abuse awareness and p
 revention to Elmore County.\nThis event is sponsored by:\nElmore County DH
 R\nButterfly Bridge CAC\nFamily Resource Center\nAlabama Parent Education 
 Center\nElmore County Extension Office\nElmore County Commission\nCASA of 
 the River Region\nIvy's Closet\nFamily Sunshine Center
X-WR-RELCALID:9e2a893747e741392e67d389114cdbb7
X-WR-TIMEZONE:America/Chicago
BEGIN:VTIMEZONE
TZID:America/Chicago
BEGIN:STANDARD
TZNAME:CST
DTSTART:20231105T020000
TZOFFSETFROM:-0500
TZOFFSETTO:-0600
RDATE:20241103T020000
END:STANDARD
BEGIN:DAYLIGHT
TZNAME:CDT
DTSTART:20240310T020000
TZOFFSETFROM:-0600
TZOFFSETTO:-0500
RDATE:20250309T020000
END:DAYLIGHT
END:VTIMEZONE
BEGIN:VEVENT
UID:f38022cf-d9af-402b-a5a0-542abaacaf02
DTSTAMP:20260421T215919Z
DESCRIPTION:oin us at Elmore County Commission Building as we kick off Nati
 onal Child Abuse Prevention Month. The morning will include a proclamation
  reading by Judge Pinkston and planting pinwheels in honor of a child in E
 lmore County. Please attend and help us bring child abuse awareness and pr
 evention to Elmore County.\nThis event is sponsored by:\nElmore County DHR
 \nButterfly Bridge CAC\nFamily Resource Center\nAlabama Parent Education C
 enter\nElmore County Extension Office\nElmore County Commission\nCASA of t
 he River Region\nIvy's Closet\nFamily Sunshine Center
DTSTART;TZID=America/Chicago:20240405T133000
DTEND;TZID=America/Chicago:20240405T143000
LOCATION:Elmore County Commission Building
SUMMARY:Elmore County Child Abuse Prevention Month Kick-Off
END:VEVENT
END:VCALENDAR
