BEGIN:VCALENDAR
VERSION:2.0
PRODID:-//www.butterflybridgecac.org//NONSGML kigkonsult.se iCalcreator 2.3
 0.10//
CALSCALE:GREGORIAN
METHOD:PUBLISH
UID:3c69fbd5-4510-474f-b026-7a3be91c5d93
X-WR-CALDESC:Calling All Community Heroes! Join us as we kick-off Child Abu
 se Prevention Month\, an annual observance in the United States dedicated 
 to raising awareness and preventing child abuse.\nWe will meet on the lawn
  of BBCAC where we will begin the pinwheel parade to the Downtown Clanton 
 Corner Park. The event will also include a proclamation and pinwheel garde
 n planning. Sack lunches will be provided.
X-WR-RELCALID:48b6bd192582e690bc8b1586ffe012ae
X-WR-TIMEZONE:America/Chicago
BEGIN:VTIMEZONE
TZID:America/Chicago
BEGIN:STANDARD
TZNAME:CST
DTSTART:20231105T020000
TZOFFSETFROM:-0500
TZOFFSETTO:-0600
RDATE:20241103T020000
END:STANDARD
BEGIN:DAYLIGHT
TZNAME:CDT
DTSTART:20240310T020000
TZOFFSETFROM:-0600
TZOFFSETTO:-0500
RDATE:20250309T020000
END:DAYLIGHT
END:VTIMEZONE
BEGIN:VEVENT
UID:67bbcb72-39ef-4d4f-8e80-a7e25b8a15f3
DTSTAMP:20260421T215615Z
DESCRIPTION:Calling All Community Heroes! Join us as we kick-off Child Abus
 e Prevention Month\, an annual observance in the United States dedicated t
 o raising awareness and preventing child abuse.\nWe will meet on the lawn 
 of BBCAC where we will begin the pinwheel parade to the Downtown Clanton C
 orner Park. The event will also include a proclamation and pinwheel garden
  planning. Sack lunches will be provided.
DTSTART;TZID=America/Chicago:20240405T110000
DTEND;TZID=America/Chicago:20240405T120000
LOCATION:BBCAC Chilton Office to the Clanton Downtown Corner Park
SUMMARY:Chilton County Child Abuse Prevention Month Kick-Off
END:VEVENT
END:VCALENDAR
