BEGIN:VCALENDAR
VERSION:2.0
PRODID:-//www.butterflybridgecac.org//NONSGML kigkonsult.se iCalcreator 2.3
 0.10//
CALSCALE:GREGORIAN
METHOD:PUBLISH
UID:a0b69ea6-8172-4a10-8b72-a92613711009
X-WR-CALDESC:Join us for Pinwheels and Popcorn to kick-off Child Abuse Prev
 ention Month. National Child Abuse Prevention Month recognizes the importa
 nce of families and communities working together to strengthen families to
  prevent child abuse and neglect. Through this collaboration\, we can prot
 ect children and produce thriving families.
X-WR-RELCALID:8fcfb69b3510e1885da0c0a897c14ff5
X-WR-TIMEZONE:America/Chicago
BEGIN:VTIMEZONE
TZID:America/Chicago
BEGIN:STANDARD
TZNAME:CST
DTSTART:20231105T020000
TZOFFSETFROM:-0500
TZOFFSETTO:-0600
RDATE:20241103T020000
END:STANDARD
BEGIN:DAYLIGHT
TZNAME:CDT
DTSTART:20240310T020000
TZOFFSETFROM:-0600
TZOFFSETTO:-0500
RDATE:20250309T020000
END:DAYLIGHT
END:VTIMEZONE
BEGIN:VEVENT
UID:cfc1d8e6-2d20-4e3b-b54b-42ceaeaa99b9
DTSTAMP:20260421T220421Z
DESCRIPTION:Join us for Pinwheels and Popcorn to kick-off Child Abuse Preve
 ntion Month. National Child Abuse Prevention Month recognizes the importan
 ce of families and communities working together to strengthen families to 
 prevent child abuse and neglect. Through this collaboration\, we can prote
 ct children and produce thriving families.
DTSTART;TZID=America/Chicago:20240401T110000
DTEND;TZID=America/Chicago:20240401T120000
LOCATION:Family Support Center\, 113 W Main Street\, Prattville\, AL 36067 
 US
SUMMARY:Autauga County Child Abuse Prevention Kick-Off
END:VEVENT
END:VCALENDAR
