BEGIN:VCALENDAR
VERSION:2.0
PRODID:-//www.butterflybridgecac.org//NONSGML kigkonsult.se iCalcreator 2.3
 0.10//
CALSCALE:GREGORIAN
METHOD:PUBLISH
UID:988502db-c30d-4020-b178-9b789dc30aee
X-WR-CALDESC:Join us for Pinwheels and Popcorn to kick-off Child Abuse Prev
 ention Month. National Child Abuse Prevention Month recognizes the importa
 nce of families and communities working together to strengthen families to
  prevent child abuse and neglect. Through this collaboration\, we can prot
 ect children and produce thriving families.
X-WR-RELCALID:c241270d5164d0ea9fd13ac344403bad
X-WR-TIMEZONE:America/New_York
BEGIN:VTIMEZONE
TZID:America/New_York
BEGIN:STANDARD
TZNAME:EST
DTSTART:20221106T020000
TZOFFSETFROM:-0400
TZOFFSETTO:-0500
RDATE:20231105T020000
END:STANDARD
BEGIN:DAYLIGHT
TZNAME:EDT
DTSTART:20230312T020000
TZOFFSETFROM:-0500
TZOFFSETTO:-0400
RDATE:20240310T020000
END:DAYLIGHT
END:VTIMEZONE
BEGIN:VEVENT
UID:56b5483e-4483-41ce-a2da-df0b54687fe4
DTSTAMP:20260421T105039Z
DESCRIPTION:Join us for Pinwheels and Popcorn to kick-off Child Abuse Preve
 ntion Month. National Child Abuse Prevention Month recognizes the importan
 ce of families and communities working together to strengthen families to 
 prevent child abuse and neglect. Through this collaboration\, we can prote
 ct children and produce thriving families.
DTSTART;TZID=America/New_York:20230406T110000
DTEND;TZID=America/New_York:20230406T120000
LOCATION:Autauga County Family Support Center
SUMMARY:Autauga County Child Abuse Prevention Month Kick-Off
END:VEVENT
END:VCALENDAR
